Workbook

Sheet ÜYELİK FORMU
D3: EK 1 - KAMU GÖREVLİLERİ SENDİKALARINA
D4: ÜYELİK FORMU
B8: SENDİKA BİLGİLERİ
B9: HİZMET KOLU | D9: SENDİKA ADI | G9: KAMU MÜHENDİSLERİ ENERJİ SENDİKASI | AA9: DOSYA NO
B11: 1 0 | D11: SENDİKA ADRESİ | G11: BALGAT MAH. CEYHUN ATIF KANSU CAD. No:20 KAT:2 DAİRE NO:8 ÇANKAYA/ANKARA | AA11: 503
B14: KURUM BİLGİLERİ
B15: KURUMUN ADI | G15: DEVLET SU İŞLERİ GENEL MÜDÜRLÜĞÜ
B17: GÖREV YAPILAN BİRİMİN ADI
B19: GÖREV YAPILAN BİRİMİN ADRESİ
B22: Hizmet Kolu | E22: Kurum Kodu | H22: İL ADI | S22: İl Kodu | V22: İLÇE ADI
B24: 1 0 | E24: =VLOOKUP(G15,'Kadro Ünvan Kodları'!H5:J28,3,0) -> 23
B26: ÜYELİK BİLGİLERİ
B27: ADI
B28: SOYADI
B29: TC KİMLİK NO (11 Rakamlı-Mernis)
B31: BABA ADI | O31: ANA ADI
B32: DOĞUM TARİHİ | O32: DOĞUM YERİ
B34: CİNSİYETİ | G34: ERKEK:1 | R34: KADIN:2
B37: ÖĞRENİM | G37: İLKÖĞRETİM:1 | N37: LİSE:2 | U37: YÜKSEK OKUL:3
B39: KURUM SİCİL
B40: KADRO ÜNVANI | P40: KADRO UNVAN KODU
B42: SOSYAL GÜVENLİK KURUMU | L42: SOSYAL GÜVENLİK SİCİL NUMARASI
B43: 1: T.C.EMEKLİ SANDIĞI
B44: 2: SOSYAL SİGORTALAR KURUMU | L44: -
B46: KAMU GÖREVLİSİNİN İMZASI | I46: ÜYE KAYIT NUMARASI | O46: ÜYELİĞE KABUL
B47: Sendikanızın Tüzüğünü | O47: Yönetim Kurulunun | U47: ……./……./………… | AB47: tarih ve
B48: okudum, İlgili Kanun gereğince | P48: ………….. | S48: Sayılı Kararı ile üyeliğe kabul edilmiştir.
B49: üyeliğe kabulümü arz ederim.
B50: TARİH : | D50: =TODAY() -> 46310 | O50: TARİH - MÜHÜR - İMZA
B52: İMZA :
B57: NOT:Form arka sayfadaki açıklamalara göre doldurulacaktır.
A60: EK -1:
A62: AÇIKLAMALAR :
A64: DOLDURMA ŞEKLİ : Yazı karakteri alfabenin büyük harfleri ile yazılacak.
A66: AMBLEM BİLGİLERİ :
A68: Sol üst köşedeki daireye sendikalar kendi amblemlerini, sağ üst köşeye bağlı bulunduğu konfederasyonun
A69: amblemini basabilir.
A71: SENDİKA BİLGİLERİ :
A73: Hizmet Kolu : Bu bölüme sendikanın faaliyet gösterdiği hizmet kolu sıra numarası yazılır.
A74: Sendika Adı : Üye tarafından doldurulacak.
...

Sheet ÇIKIŞ FORMU
E3: EK 3 - KAMU GÖREVLİLERİ SENDİKALARI
D4: KAMU GÖREVLİSİNİN ÜYELİKTEN ÇEKİLME BİLDİRİMİ FORMU
B8: SENDİKA BİLGİLERİ
B9: HİZMET KOLU | D9: SENDİKA ADI | G9: TÜRK ENERJİ-SEN | AA9: DOSYA NO
B11: 1 0 | D11: SENDİKA ADRESİ | G11: =VLOOKUP(G9,'Enerji Sendikaları Kodları'!B4:D15,3,0) -> Erzurum Mah. Talatpaşa Bul. No:160 Kat:3 Çankaya/ANKARA | AA11: =VLOOKUP(G9,'Enerji Sendikaları Kodları'!B4:D15,2,0) -> 7
B14: KURUM BİLGİLERİ
B15: KURUMUN ADI | G15: =IF( 'ÜYELİK FORMU'!G15:AD15="", "", 'ÜYELİK FORMU'!G15:AD15 ) -> DEVLET SU İŞLERİ GENEL MÜDÜRLÜĞÜ
B17: GÖREV YAPILAN BİRİMİN ADI | G17: =IF( 'ÜYELİK FORMU'!G17:AD18="", "", 'ÜYELİK FORMU'!G17:AD18 )
B19: GÖREV YAPILAN BİRİMİN ADRESİ | G19: =IF( 'ÜYELİK FORMU'!G19:AD19="", "", 'ÜYELİK FORMU'!G19:AD19 )
B22: Hizmet Kolu | E22: Kurum Kodu | H22: İL ADI | S22: İl Kodu | V22: İLÇE ADI
H23: =IF( 'ÜYELİK FORMU'!H23:Q23="", "", 'ÜYELİK FORMU'!H23:Q23 ) | S23: =IF( 'ÜYELİK FORMU'!S23:T23="", "", 'ÜYELİK FORMU'!S23:T23 ) | V23: =IF( 'ÜYELİK FORMU'!V23:AD23="", "", 'ÜYELİK FORMU'!V23:AD23 )
B24: 1 0 | E24: ='ÜYELİK FORMU'!E24:F24 -> 23
B26: ÜYELİK BİLGİLERİ
B27: ADI | G27: =IF( 'ÜYELİK FORMU'!G27:AD27="", "", 'ÜYELİK FORMU'!G27:AD27 )
B28: SOYADI | G28: =IF( 'ÜYELİK FORMU'!G28:AD28="", "", 'ÜYELİK FORMU'!G28:AD28 )
B29: TC KİMLİK NO (11 Rakamlı-Mernis) | G29: =IF( 'ÜYELİK FORMU'!G29:AD30="", "", 'ÜYELİK FORMU'!G29:AD30 )
B31: BABA ADI | G31: =IF( 'ÜYELİK FORMU'!G31:N31="", "", 'ÜYELİK FORMU'!G31:N31 ) | O31: ANA ADI | S31: =IF( 'ÜYELİK FORMU'!S31:AD31="", "", 'ÜYELİK FORMU'!S31:AD31 )
B32: DOĞUM TARİHİ | G32: =IF( 'ÜYELİK FORMU'!G32:N32="", "", 'ÜYELİK FORMU'!G32:N32 ) | O32: DOĞUM YERİ | S32: =IF( 'ÜYELİK FORMU'!S32:AD32="", "", 'ÜYELİK FORMU'!S32:AD32 )
B34: CİNSİYETİ | G34: ERKEK:1 | N34: =IF( 'ÜYELİK FORMU'!N34="", "", 'ÜYELİK FORMU'!N34 ) | R34: KADIN:2 | Y34: =IF( 'ÜYELİK FORMU'!Y34="", "", 'ÜYELİK FORMU'!Y34 )
B37: ÖĞRENİM | G37: İLKÖĞRETİM:1 | K37: =IF( 'ÜYELİK FORMU'!K37="", "", 'ÜYELİK FORMU'!K37 ) | N37: LİSE:2 | Q37: =IF( 'ÜYELİK FORMU'!Q37="", "", 'ÜYELİK FORMU'!Q37 ) | U37: YÜKSEK OKUL:3 | AB37: =IF( 'ÜYELİK FORMU'!AB37="", "", 'ÜYELİK FORMU'!AB37 )
B39: KURUM SİCİL | G39: =IF( 'ÜYELİK FORMU'!G39:AD39="", "", 'ÜYELİK FORMU'!G39:AD39 )
B40: KADRO ÜNVANI | G40: =IF( 'ÜYELİK FORMU'!G40:O40="", "", 'ÜYELİK FORMU'!G40:O40 ) | P40: KADRO UNVAN KODU | V40: =IF( 'ÜYELİK FORMU'!V40:AD40="", "", 'ÜYELİK FORMU'!V40:AD40 )
B42: SOSYAL GÜVENLİK KURUMU | L42: SOSYAL GÜVENLİK SİCİL NUMARASI
B43: 1: T.C.EMEKLİ SANDIĞI | L43: =IF( 'ÜYELİK FORMU'!L43:AD43="", "", 'ÜYELİK FORMU'!L43:AD43 )
B44: 2: SOSYAL SİGORTALAR KURUMU | L44: =IF( 'ÜYELİK FORMU'!L44:AD44="", "", 'ÜYELİK FORMU'!L44:AD44 ) -> -
B46: ÜYELİKTEN ÇEKİLME | M46: ÜYELİKTEN ÇEKİLME TARİHİ VE NO
B47: Yukarıda belirttiğim Kamu Görevlileri | M47: FORMUN KURUMA
B48: Sendikası Üyeliğinden çekiliyorum. Gereğini | M48: VERİLİŞ TARİHİ : | S48: ……./……./…………..
B49: arz ederim.
M50: FORMUN KURUMCA VERİLEN
B51: TARİH | D51: : | E51: =TODAY() -> 46310 | M51: EVRAK NUMARASI :
B53: Kamu Görevlisinin
B54: İmzası :
A59: NOT:Form arka sayfadaki açıklamalara göre doldurulacaktır.
A62: EK-3:
A64: AÇIKLAMALAR :
A66: DOLDURMA ŞEKLİ : Yazı karakteri alfabenin büyük harfleri ile yazılacak.
A68: SENDİKA BİLGİLERİ :
A70: Hizmet Kolu : Bu bölüme sendikanın faaliyet gösterdiği hizmet kolu sıra numarası yazılır.
A71: Sendika Adı : Üye tarafından doldurulacak.
...

Sheet İstifa Dilekçesi
A4: =IF( 'ÜYELİK FORMU'!G15="", "", 'ÜYELİK FORMU'!G15) -> DEVLET SU İŞLERİ GENEL MÜDÜRLÜĞÜ
E11: =IF('ÇIKIŞ FORMU'!G9="","",_xlfn.TEXTJOIN("",,"Üyesi bulunduğum"," ",'ÇIKIŞ FORMU'!G9," ","sendikasından istifa ediyorum.")) -> #NAME?
E13: Gereğini arz ederim.
V16: =TODAY() -> 46310
V17: =IF('ÜYELİK FORMU'!G27="","",'ÜYELİK FORMU'!G27)
V18: =IF('ÜYELİK FORMU'!G28="","",'ÜYELİK FORMU'!G28)
B20: ADRES | F20: :
B22: TEL | F22: :
B23: SİCİL NO | F23: : | G23: =IF('ÜYELİK FORMU'!G39="","",'ÜYELİK FORMU'!G39)
B24: TC | F24: : | G24: =IF('ÜYELİK FORMU'!G29="","",'ÜYELİK FORMU'!G29)

Sheet Kadro Ünvan Kodları
B1: SIK KULLANILAN KADRO ÜNVAN KODLARI | H1: KURUM KODLARI
B2: KOD | C2: UNVAN ADI | D2: SINIF
B3: 8500 | C3: MÜHENDİS | D3: TH | G3: S.
B4: 5075 | C4: BAŞMÜHENDİS | D4: TH | G4: NO | H4: KURUMLAR
B5: 8505 | C5: MİMAR | D5: TS | G5: 1 | H5: Enerji ve Tabii Kaynaklar Bakanlığı | I5: =UPPER(H5) -> ENERJİ VE TABİİ KAYNAKLAR BAKANLIĞI | J5: 1
B6: 8535 | C6: ŞEHİR PLANCISI | D6: TS | G6: 2 | H6: Sanayi ve Teknoloji Bakanlığı | I6: =UPPER(H6) -> SANAYİ VE TEKNOLOJİ BAKANLIĞI | J6: 2
B7: 5050 | C7: ŞUBE MÜDÜRÜ | D7: TS | G7: 3 | H7: Savunma Sanayii Başkanlığı | I7: =UPPER(H7) -> SAVUNMA SANAYİİ BAŞKANLIĞI | J7: 3
B8: 8750 | C8: TEKNİKER | D8: TS | G8: 4 | H8: Eti Maden İşletmeleri Genel Müdürlüğü | I8: =UPPER(H8) -> ETİ MADEN İŞLETMELERİ GENEL MÜDÜRLÜĞÜ | J8: 4
B9: 8790 | C9: TEKNİSYEN | D9: TS | G9: 5 | H9: Elektrik Üretim A.Ş. Genel Müdürlüğü | I9: =UPPER(H9) -> ELEKTRİK ÜRETİM A.Ş. GENEL MÜDÜRLÜĞÜ | J9: 5
B10: 8855 | C10: TOPOĞRAF | D10: TS | G10: 6 | H10: Türkiye Elektrik Dağıtım Anonim Şirketi Genel Müdürlüğü | I10: =UPPER(H10) -> TÜRKİYE ELEKTRİK DAĞITIM ANONİM ŞİRKETİ GENEL MÜDÜRLÜĞÜ | J10: 6
B11: 6175 | C11: UZMAN | D11: TS | G11: 7 | H11: Türkiye Elektrik İletim Anonim Şirketi Genel Müdürlüğü | I11: =UPPER(H11) -> TÜRKİYE ELEKTRİK İLETİM ANONİM ŞİRKETİ GENEL MÜDÜRLÜĞÜ | J11: 7
B12: 6675 | C12: UZMAN YARDIMCISI | D12: TS | G12: 8 | H12: Türkiye Kömür İşletmeleri Kurumu Genel Müdürlüğü | I12: =UPPER(H12) -> TÜRKİYE KÖMÜR İŞLETMELERİ KURUMU GENEL MÜDÜRLÜĞÜ | J12: 8
B13: 3970 | C13: İŞLETME MÜDÜRÜ | D13: GİH | G13: 9 | H13: Türkiye Taşkömürü Kurumu Genel Müdürlüğü | I13: =UPPER(H13) -> TÜRKİYE TAŞKÖMÜRÜ KURUMU GENEL MÜDÜRLÜĞÜ | J13: 9
B14: 4055 | C14: İŞLETME MÜDÜR YARDIMCISI | D14: GİH | G14: 10 | H14: Maden Tetkik ve Arama Genel Müdürlüğü | I14: =UPPER(H14) -> MADEN TETKİK VE ARAMA GENEL MÜDÜRLÜĞÜ | J14: 10
B15: 3600 | C15: BÖLGE MÜDÜR YARDIMCISI | D15: GİH | G15: 11 | H15: Enerji Piyasası Düzenleme Kurumu Başkanlığı | I15: =UPPER(H15) -> ENERJİ PİYASASI DÜZENLEME KURUMU BAŞKANLIĞI | J15: 11
G16: 14 | H16: Nükleer Düzenleme Kurumu Başkanlığı | I16: =UPPER(H16) -> NÜKLEER DÜZENLEME KURUMU BAŞKANLIĞI | J16: 14
B17: KADRO ÜNVAN KODLARI | G17: 15 | H17: Maden ve Petrol İşleri Genel Müdürlüğü | I17: =UPPER(H17) -> MADEN VE PETROL İŞLERİ GENEL MÜDÜRLÜĞÜ | J17: 15
B18: KOD | C18: UNVAN ADI | D18: SINIF | G18: 17 | H18: Milli Savunma BakanlığıAkaryakıt İkmal ve NATO POL Tesisleri İşletme Başkanlığı | I18: =UPPER(H18) -> MİLLİ SAVUNMA BAKANLIĞIAKARYAKIT İKMAL VE NATO POL TESİSLERİ İŞLETME BAŞKANLIĞI | J18: 17
B19: 1175 | C19: 1. HUKUK MÜŞAVİRİ | D19: GİH | G19: 19 | H19: Türk Patent ve Marka Kurumu Başkanlığı | I19: =UPPER(H19) -> TÜRK PATENT VE MARKA KURUMU BAŞKANLIĞI | J19: 19
B20: 1175 | C20: 1. HUKUK MÜŞAVİRİ | D20: MİAH | G20: 20 | H20: Türkiye Bilimler Akademisi Başkanlığı | I20: =UPPER(H20) -> TÜRKİYE BİLİMLER AKADEMİSİ BAŞKANLIĞI | J20: 20
B21: 1175 | C21: 1. HUKUK MÜŞAVİRİ | D21: EMH | G21: 21 | H21: Küçük ve Orta Ölçekliİşletmeleri Geliştirme ve Destekleme İdaresi Başkanlığı | I21: =UPPER(H21) -> KÜÇÜK VE ORTA ÖLÇEKLİİŞLETMELERİ GELİŞTİRME VE DESTEKLEME İDARESİ BAŞKANLIĞI | J21: 21
B22: 186 | C22: A.P.K. KURULU ÜYESİ | D22: HS | G22: 22 | H22: Çay İşletmeleri Genel Müdürlüğü | I22: =UPPER(H22) -> ÇAY İŞLETMELERİ GENEL MÜDÜRLÜĞÜ | J22: 22
B23: 6200 | C23: A.P.K. UZMANI | D23: GİH | G23: 23 | H23: Devlet Su İşleri Genel Müdürlüğü | I23: =UPPER(H23) -> DEVLET SU İŞLERİ GENEL MÜDÜRLÜĞÜ | J23: 23
B24: 6200 | C24: A.P.K. UZMANI | D24: TH | G24: 24 | H24: Türkiye Şeker Fabrikaları A.Ş. Genel Müdürlüğü | I24: =UPPER(H24) -> TÜRKİYE ŞEKER FABRİKALARI A.Ş. GENEL MÜDÜRLÜĞÜ | J24: 24
B25: 3140 | C25: ADALET BAŞ MÜFETTİŞİ | D25: HS | G25: 25 | H25: Sümer Holding A.Ş. Genel Müdürlüğü | I25: =UPPER(H25) -> SÜMER HOLDİNG A.Ş. GENEL MÜDÜRLÜĞÜ | J25: 25
B26: 3250 | C26: ADALET MÜFETTİŞİ | D26: HS | G26: 26 | H26: Türk Standardları Enstitüsü | I26: =UPPER(H26) -> TÜRK STANDARDLARI ENSTİTÜSÜ | J26: 26
B27: 1266 | C27: ADAY MESLEK MEMURU, ÜÇÜNCÜ KATİP, MUAVİN KONSOLOS, ATAŞE, | D27: GİH | G27: 27 | H27: Türkiye Uzay Ajansı | I27: =UPPER(H27) -> TÜRKİYE UZAY AJANSI | J27: 27
B28: 230 | C28: ADLİ SİCİL VE İSTATİSTİK GENEL MÜDÜRÜ | D28: HS | G28: 28 | H28: Türkiye Enerji, Nükleer ve Maden Araştırma Kurumu | I28: =UPPER(H28) -> TÜRKİYE ENERJİ, NÜKLEER VE MADEN ARAŞTIRMA KURUMU | J28: 28
B29: 5100 | C29: ADLİ TIP ŞUBE MÜDÜRÜ | D29: SH
B30: 3811 | C30: AFET VE ACİL DURUM EĞİTİM MERKEZİ MÜDÜR YARDIMCISI | D30: GİH
B31: 3702 | C31: AFET VE ACİL DURUM EĞİTİM MERKEZİ MÜDÜRÜ | D31: GİH
B32: 2161 | C32: AFET VE ACİL DURUM YÖNETİMİ BAŞKANI | D32: GİH
B33: 3362 | C33: AFET VE ACİL DURUM YÖNETİMİ UZMAN YARDIMCISI | D33: GİH
B34: 3168 | C34: AFET VE ACİL DURUM YÖNETİMİ UZMANI | D34: GİH
B35: 1990 | C35: AĞAÇLANDIRMA DAİRESİ BAŞKANI | D35: GİH
B36: 3620 | C36: AİLE VE SOSYAL POLİTİKALAR UZMAN YARDIMCISI | D36: GİH
B37: 3426 | C37: AİLE VE SOSYAL POLİTİKALAR UZMANI | D37: GİH
B38: 747 | C38: AKADEMİ BAŞKAN YARDIMCISI | D38: EMH
B39: 602 | C39: AKADEMİ BAŞKANI | D39: GİH
B40: 602 | C40: AKADEMİ BAŞKANI | D40: EMH
...

Sheet Enerji Sendikaları Kodları
B3: SENDİKA ADI | C3: DOSYA NO | D3: ADRES
A4: 1 | B4: MÜHENDİS TEK-SEN ENERJİ | C4: 432 | D4: ÜÇEVLER MAHALLESİ BAYRAKTEPE SOKAK NO: 14 KAT:5 NO:9 NİLÜFER/BURSA
A5: 2 | B5: ENERJİ BİR-SEN | C5: 35 | D5: Zübeyde Hanım Mah. Sebze Bahçeleri Cad. No: 86 Kat: 9 Altındağ/ANKARA
A6: 3 | B6: TÜRK ENERJİ-SEN | C6: 7 | D6: Erzurum Mah. Talatpaşa Bul. No:160 Kat:3 Çankaya/ANKARA
A7: 4 | B7: ESM | C7: 27 | D7: Mithatpaşa Cad. No: 24/13 Kızılay/Çankaya/ANKARA
A8: 5 | B8: MİL-ENERJİ SEN | C8: 344 | D8: Ragıp Tüzün Mah. Pazar Cad. No: 24 Yenimahalle/ANKARA
A9: 6 | B9: ŞEHİT GAZİ-ENERJİ | C9: 306 | D9: Balgat Mah. Ziyabey Cad. No: 75/5 Çankaya/ANKARA
A10: 7 | B10: ÇALIŞAN ENERJİ-SEN | C10: 289 | D10: Maltepe Mah. GMK Bulvarı No: 39/20-21 Çankaya / ANKARA
A11: 8 | B11: ANADOLU EKSEN ENERJİ-SEN | C11: 245 | D11: Korkut Reis Mah. GMK Bulvarı No: 30/19 Kızılay-Çankaya/ANKARA
A12: 9 | B12: ENERJİ İŞ | C12: 206 | D12: Şehit Adem Yavuz Sok. No: 14/14. Kat: 4 Kızılay-Çankaya/ANKARA
A13: 10 | B13: ENERJİ HAK-SEN | C13: 130 | D13: Maltepe Mah. GMK Bulvarı No: 40/2 Kat: 2 Çankaya/ANKARA
A14: 11 | B14: BAĞIMSIZ ENERJİ-SEN | C14: 91 | D14: Kızılay Mah. İzmir 2. Cad. Turtes İşhanı No: 34 K: 4/410 Çankaya/ANKARA
A15: 12 | B15: YENİ ENERJİ SEN | C15: 375 | D15: Medya Mah. Mahabad Bulv. Çarkanat 2010 Blok No: 9/13 Kayapınar/Diyarbakır
